BEGIN:VCALENDAR
VERSION:2.0
PRODID:-//Stone Update - ECPv6.15.1.1//NONSGML v1.0//EN
CALSCALE:GREGORIAN
METHOD:PUBLISH
X-WR-CALNAME:Stone Update
X-ORIGINAL-URL:https://stoneupdate.com
X-WR-CALDESC:Events for Stone Update
REFRESH-INTERVAL;VALUE=DURATION:PT1H
X-Robots-Tag:noindex
X-PUBLISHED-TTL:PT1H
BEGIN:VTIMEZONE
TZID:America/Los_Angeles
BEGIN:DAYLIGHT
TZOFFSETFROM:-0800
TZOFFSETTO:-0700
TZNAME:PDT
DTSTART:20260308T100000
END:DAYLIGHT
BEGIN:STANDARD
TZOFFSETFROM:-0700
TZOFFSETTO:-0800
TZNAME:PST
DTSTART:20261101T090000
END:STANDARD
END:VTIMEZONE
BEGIN:VEVENT
DTSTART;TZID=America/Los_Angeles:20260330T080000
DTEND;TZID=America/Los_Angeles:20260402T170000
DTSTAMP:20260424T021323
CREATED:20250202T001422Z
LAST-MODIFIED:20250202T001422Z
UID:10720-1774857600-1775149200@stoneupdate.com
SUMMARY:Coverings 2026
DESCRIPTION:
URL:https://stoneupdate.com/event/coverings-2026/
LOCATION:Las Vegas Convention Center\, 3150 Paradise Road\, Las Vegas\, NV\, 89109\, United States
END:VEVENT
END:VCALENDAR