BEGIN:VCALENDAR
VERSION:2.0
PRODID:-//Stone Update - ECPv6.15.1.1//NONSGML v1.0//EN
CALSCALE:GREGORIAN
METHOD:PUBLISH
X-WR-CALNAME:Stone Update
X-ORIGINAL-URL:https://stoneupdate.com
X-WR-CALDESC:Events for Stone Update
REFRESH-INTERVAL;VALUE=DURATION:PT1H
X-Robots-Tag:noindex
X-PUBLISHED-TTL:PT1H
BEGIN:VTIMEZONE
TZID:America/Los_Angeles
BEGIN:DAYLIGHT
TZOFFSETFROM:-0800
TZOFFSETTO:-0700
TZNAME:PDT
DTSTART:20240310T100000
END:DAYLIGHT
BEGIN:STANDARD
TZOFFSETFROM:-0700
TZOFFSETTO:-0800
TZNAME:PST
DTSTART:20241103T090000
END:STANDARD
END:VTIMEZONE
BEGIN:VEVENT
DTSTART;TZID=America/Los_Angeles:20240606T083000
DTEND;TZID=America/Los_Angeles:20240606T150000
DTSTAMP:20260425T055250
CREATED:20240510T220520Z
LAST-MODIFIED:20240510T220520Z
UID:9942-1717662600-1717686000@stoneupdate.com
SUMMARY:Colorado Stone Summit
DESCRIPTION:“Dynamic Intentionality” with Tony Malisani
URL:https://stoneupdate.com/event/colorado-stone-summit/
LOCATION:Architectural Surfaces\, 10000 E 40th Ave\, Denver\, CO\, 80238\, United States
CATEGORIES:Workshop
ATTACH;FMTTYPE=image/png:https://stoneupdate.com/wp-content/uploads/2023/12/Stone-Industry-Education.png
END:VEVENT
BEGIN:VEVENT
DTSTART;VALUE=DATE:20240606
DTEND;VALUE=DATE:20240608
DTSTAMP:20260425T055250
CREATED:20240510T184832Z
LAST-MODIFIED:20240510T184832Z
UID:9934-1717632000-1717804799@stoneupdate.com
SUMMARY:SFA Workshop
DESCRIPTION:Hosted by Cutting Edge Countertops in Perrysburg\, Ohio.
URL:https://stoneupdate.com/event/sfa-workshop/
LOCATION:Cutting Edge Countertops\, 1300 Flagship Drive\, Perrysburg\, OH\, United States
CATEGORIES:Workshop
ATTACH;FMTTYPE=image/jpeg:https://stoneupdate.com/wp-content/uploads/2021/09/300_sfa.jpg
END:VEVENT
END:VCALENDAR