BEGIN:VCALENDAR
VERSION:2.0
PRODID:-//Stone Update - ECPv6.15.1.1//NONSGML v1.0//EN
CALSCALE:GREGORIAN
METHOD:PUBLISH
X-WR-CALNAME:Stone Update
X-ORIGINAL-URL:https://stoneupdate.com
X-WR-CALDESC:Events for Stone Update
REFRESH-INTERVAL;VALUE=DURATION:PT1H
X-Robots-Tag:noindex
X-PUBLISHED-TTL:PT1H
BEGIN:VTIMEZONE
TZID:America/Los_Angeles
BEGIN:DAYLIGHT
TZOFFSETFROM:-0800
TZOFFSETTO:-0700
TZNAME:PDT
DTSTART:20240310T100000
END:DAYLIGHT
BEGIN:STANDARD
TZOFFSETFROM:-0700
TZOFFSETTO:-0800
TZNAME:PST
DTSTART:20241103T090000
END:STANDARD
END:VTIMEZONE
BEGIN:VEVENT
DTSTART;VALUE=DATE:20240825
DTEND;VALUE=DATE:20240830
DTSTAMP:20260425T090021
CREATED:20240521T165151Z
LAST-MODIFIED:20240521T165151Z
UID:10041-1724544000-1724975999@stoneupdate.com
SUMMARY:2024 NSI Study Tour
DESCRIPTION:Agenda includes stone company visits\, overviews of natural-stone installations in Salt Lake City\, and more!
URL:https://stoneupdate.com/event/2024-nsi-study-tour/
LOCATION:Grand America Hotel\, 555 S. Main St.\, alt Lake City\, UT\, 84111\, United States
CATEGORIES:Study Tour
ATTACH;FMTTYPE=image/png:https://stoneupdate.com/wp-content/uploads/2024/05/2024_utah_study_tour.png
END:VEVENT
BEGIN:VEVENT
DTSTART;VALUE=DATE:20240822
DTEND;VALUE=DATE:20240823
DTSTAMP:20260425T090021
CREATED:20240510T231153Z
LAST-MODIFIED:20240510T231153Z
UID:9983-1724284800-1724371199@stoneupdate.com
SUMMARY:Digital Fabrication Seminar: Florida
DESCRIPTION:Digital Fabrication Seminar by BACA Systems at Zsolt Granite Corp. in Longwood\, Fla.
URL:https://stoneupdate.com/event/digital-fabrication-seminar-florida/
LOCATION:Zsolt Granite Corp.\, 150 Hope St. Suite 1\, Longwood\, FL\, 32750\, United States
CATEGORIES:Workshop
ATTACH;FMTTYPE=image/png:https://stoneupdate.com/wp-content/uploads/2022/09/fea_Baca.png
END:VEVENT
BEGIN:VEVENT
DTSTART;VALUE=DATE:20240815
DTEND;VALUE=DATE:20240816
DTSTAMP:20260425T090021
CREATED:20240510T230456Z
LAST-MODIFIED:20240510T230456Z
UID:9977-1723680000-1723766399@stoneupdate.com
SUMMARY:Digital Fabrication Seminar: Utah
DESCRIPTION:Digital Fabrication Seminar by BACA Systems in Murray\, Utah
URL:https://stoneupdate.com/event/digital-fabrication-seminar-utah/
LOCATION:Accent Countertops\, 4103 S 500 W\, Murray\, UT\, 84123\, United States
CATEGORIES:Workshop
ATTACH;FMTTYPE=image/png:https://stoneupdate.com/wp-content/uploads/2022/09/fea_Baca.png
END:VEVENT
BEGIN:VEVENT
DTSTART;VALUE=DATE:20240724
DTEND;VALUE=DATE:20240727
DTSTAMP:20260425T090021
CREATED:20240510T225910Z
LAST-MODIFIED:20240510T230007Z
UID:9972-1721779200-1722038399@stoneupdate.com
SUMMARY:All Slab Fabbers
DESCRIPTION:All Slab Fabbers at The Granite Guys in Pasco\, Wash.
URL:https://stoneupdate.com/event/all-slab-fabbers/
LOCATION:The Granite Guys\, 900 W River St.\, Pasco\, WA\, 99301\, United States
CATEGORIES:Workshop
ATTACH;FMTTYPE=image/jpeg:https://stoneupdate.com/wp-content/uploads/2024/05/all-slab-fabbers.jpg
END:VEVENT
BEGIN:VEVENT
DTSTART;TZID=America/Los_Angeles:20240711T083000
DTEND;TZID=America/Los_Angeles:20240711T153000
DTSTAMP:20260425T090021
CREATED:20240510T225306Z
LAST-MODIFIED:20240510T234138Z
UID:9966-1720686600-1720711800@stoneupdate.com
SUMMARY:Wisconsin Stone Summit
DESCRIPTION:Wisconsin Stone Summit at UGM Surfaces in Oak Creek\, Wis.
URL:https://stoneupdate.com/event/wisconsin-stone-summit/
LOCATION:UGM Surfaces\, 5060 Delemere Ave\, Royal Oak\, MI\, 48073\, United States
END:VEVENT
BEGIN:VEVENT
DTSTART;TZID=America/Los_Angeles:20240627T083000
DTEND;TZID=America/Los_Angeles:20240628T190000
DTSTAMP:20260425T090021
CREATED:20240510T223924Z
LAST-MODIFIED:20240510T224410Z
UID:9961-1719477000-1719601200@stoneupdate.com
SUMMARY:Digital Stoneworking Expo®: Park Industries
DESCRIPTION:Digital Stoneworking Expo® from Park Industries in Herndon\, Va.
URL:https://stoneupdate.com/event/digital-stoneworking-expo-park-industries/
LOCATION:Hilton Washington Dulles Airport\, 13869 Park Center Road\, Herndon\, VA\, 20171\, United States
CATEGORIES:Workshop
ATTACH;FMTTYPE=image/jpeg:https://stoneupdate.com/wp-content/uploads/2024/04/DSE-June-DC.jpg
END:VEVENT
BEGIN:VEVENT
DTSTART;TZID=America/Los_Angeles:20240620T090000
DTEND;TZID=America/Los_Angeles:20240620T153000
DTSTAMP:20260425T090021
CREATED:20240510T223347Z
LAST-MODIFIED:20240510T230550Z
UID:9958-1718874000-1718897400@stoneupdate.com
SUMMARY:Digital Fabrication Seminar: Kentucky
DESCRIPTION:Digital Fabrication Seminar from BACA Systems at Universal Stone in Louisville\, Ky.
URL:https://stoneupdate.com/event/digital-fabrication-seminar-kentucky/
LOCATION:Universal Stone\, 4103 Bishop Ln\, Louisville\, KY\, 40218\, United States
CATEGORIES:Workshop
ATTACH;FMTTYPE=image/png:https://stoneupdate.com/wp-content/uploads/2022/09/fea_Baca.png
END:VEVENT
BEGIN:VEVENT
DTSTART;VALUE=DATE:20240619
DTEND;VALUE=DATE:20240623
DTSTAMP:20260425T090021
CREATED:20240510T222850Z
LAST-MODIFIED:20240510T222850Z
UID:9953-1718755200-1719100799@stoneupdate.com
SUMMARY:Stone+tec | Nuremberg
DESCRIPTION:Natural stone and Stone Technology Trade Fair + Congress\, Nuremberg\, Germany
URL:https://stoneupdate.com/event/stonetec-nuremberg/
LOCATION:Exhibition Center\, Messezentrum 1\, Nuremberg\, 90471\, Germany
CATEGORIES:Trade Show
ATTACH;FMTTYPE=image/jpeg:https://stoneupdate.com/wp-content/uploads/2024/05/Stonetec.jpg
END:VEVENT
BEGIN:VEVENT
DTSTART;TZID=America/Los_Angeles:20240613T090000
DTEND;TZID=America/Los_Angeles:20240613T153000
DTSTAMP:20260425T090021
CREATED:20240510T222146Z
LAST-MODIFIED:20240510T230647Z
UID:9949-1718269200-1718292600@stoneupdate.com
SUMMARY:Digital Fabrication Seminar: Massachusetts
DESCRIPTION:Digital Fabrication Seminar at All Granite & Marble in Charlton\, Mass.
URL:https://stoneupdate.com/event/digital-fabrication-seminar-massachusetts/
LOCATION:All Granite and Marble\, 381 Worcester Rd.\, Charlton\, MA\, 01507\, United States
CATEGORIES:Workshop
ATTACH;FMTTYPE=image/png:https://stoneupdate.com/wp-content/uploads/2022/09/fea_Baca.png
END:VEVENT
BEGIN:VEVENT
DTSTART;VALUE=DATE:20240611
DTEND;VALUE=DATE:20240614
DTSTAMP:20260425T090021
CREATED:20240510T221654Z
LAST-MODIFIED:20240510T221654Z
UID:9946-1718064000-1718323199@stoneupdate.com
SUMMARY:ISFA Fabricator Forum
DESCRIPTION:Cosentino Center Sacramento in Roseville\, Calif.
URL:https://stoneupdate.com/event/isfa-fabricator-forum/
LOCATION:Cosentino Center\, 10015 Foothills Blvd #150\, Roseville\, CA\, 95747\, United States
CATEGORIES:Workshop
ATTACH;FMTTYPE=image/jpeg:https://stoneupdate.com/wp-content/uploads/2023/01/fea_ISFA.jpg
END:VEVENT
BEGIN:VEVENT
DTSTART;TZID=America/Los_Angeles:20240606T083000
DTEND;TZID=America/Los_Angeles:20240606T150000
DTSTAMP:20260425T090021
CREATED:20240510T220520Z
LAST-MODIFIED:20240510T220520Z
UID:9942-1717662600-1717686000@stoneupdate.com
SUMMARY:Colorado Stone Summit
DESCRIPTION:“Dynamic Intentionality” with Tony Malisani
URL:https://stoneupdate.com/event/colorado-stone-summit/
LOCATION:Architectural Surfaces\, 10000 E 40th Ave\, Denver\, CO\, 80238\, United States
CATEGORIES:Workshop
ATTACH;FMTTYPE=image/png:https://stoneupdate.com/wp-content/uploads/2023/12/Stone-Industry-Education.png
END:VEVENT
BEGIN:VEVENT
DTSTART;VALUE=DATE:20240606
DTEND;VALUE=DATE:20240608
DTSTAMP:20260425T090021
CREATED:20240510T184832Z
LAST-MODIFIED:20240510T184832Z
UID:9934-1717632000-1717804799@stoneupdate.com
SUMMARY:SFA Workshop
DESCRIPTION:Hosted by Cutting Edge Countertops in Perrysburg\, Ohio.
URL:https://stoneupdate.com/event/sfa-workshop/
LOCATION:Cutting Edge Countertops\, 1300 Flagship Drive\, Perrysburg\, OH\, United States
CATEGORIES:Workshop
ATTACH;FMTTYPE=image/jpeg:https://stoneupdate.com/wp-content/uploads/2021/09/300_sfa.jpg
END:VEVENT
END:VCALENDAR