BEGIN:VCALENDAR
VERSION:2.0
PRODID:-//Stone Update - ECPv6.15.1.1//NONSGML v1.0//EN
CALSCALE:GREGORIAN
METHOD:PUBLISH
X-WR-CALNAME:Stone Update
X-ORIGINAL-URL:https://stoneupdate.com
X-WR-CALDESC:Events for Stone Update
REFRESH-INTERVAL;VALUE=DURATION:PT1H
X-Robots-Tag:noindex
X-PUBLISHED-TTL:PT1H
BEGIN:VTIMEZONE
TZID:America/Los_Angeles
BEGIN:DAYLIGHT
TZOFFSETFROM:-0800
TZOFFSETTO:-0700
TZNAME:PDT
DTSTART:20240310T100000
END:DAYLIGHT
BEGIN:STANDARD
TZOFFSETFROM:-0700
TZOFFSETTO:-0800
TZNAME:PST
DTSTART:20241103T090000
END:STANDARD
BEGIN:DAYLIGHT
TZOFFSETFROM:-0800
TZOFFSETTO:-0700
TZNAME:PDT
DTSTART:20250309T100000
END:DAYLIGHT
BEGIN:STANDARD
TZOFFSETFROM:-0700
TZOFFSETTO:-0800
TZNAME:PST
DTSTART:20251102T090000
END:STANDARD
BEGIN:DAYLIGHT
TZOFFSETFROM:-0800
TZOFFSETTO:-0700
TZNAME:PDT
DTSTART:20260308T100000
END:DAYLIGHT
BEGIN:STANDARD
TZOFFSETFROM:-0700
TZOFFSETTO:-0800
TZNAME:PST
DTSTART:20261101T090000
END:STANDARD
END:VTIMEZONE
BEGIN:VTIMEZONE
TZID:America/New_York
BEGIN:DAYLIGHT
TZOFFSETFROM:-0500
TZOFFSETTO:-0400
TZNAME:EDT
DTSTART:20250309T070000
END:DAYLIGHT
BEGIN:STANDARD
TZOFFSETFROM:-0400
TZOFFSETTO:-0500
TZNAME:EST
DTSTART:20251102T060000
END:STANDARD
END:VTIMEZONE
BEGIN:VTIMEZONE
TZID:UTC
BEGIN:STANDARD
TZOFFSETFROM:+0000
TZOFFSETTO:+0000
TZNAME:UTC
DTSTART:20250101T000000
END:STANDARD
END:VTIMEZONE
BEGIN:VTIMEZONE
TZID:Asia/Karachi
BEGIN:STANDARD
TZOFFSETFROM:+0500
TZOFFSETTO:+0500
TZNAME:PKT
DTSTART:20250101T000000
END:STANDARD
END:VTIMEZONE
BEGIN:VEVENT
DTSTART;TZID=America/Los_Angeles:20260127T090000
DTEND;TZID=America/Los_Angeles:20260129T150000
DTSTAMP:20260425T091335
CREATED:20250202T000334Z
LAST-MODIFIED:20250202T000334Z
UID:10712-1769504400-1769698800@stoneupdate.com
SUMMARY:The International Surface Event (TISE) 2026
DESCRIPTION:
URL:https://stoneupdate.com/event/the-international-surface-event-tise-2026/
LOCATION:Mandalay Bay Convention Center\, 3950 S Las Vegas Blvd\, Las Vegas\, NV\, 89119\, United States
CATEGORIES:Trade Show
END:VEVENT
BEGIN:VEVENT
DTSTART;TZID=America/Los_Angeles:20251113T080000
DTEND;TZID=America/Los_Angeles:20251114T170000
DTSTAMP:20260425T091335
CREATED:20250201T234230Z
LAST-MODIFIED:20250201T234230Z
UID:10690-1763020800-1763139600@stoneupdate.com
SUMMARY:All Slab Fabbers
DESCRIPTION:Hosted by Geoffrey Gran of The Countertop Factory
URL:https://stoneupdate.com/event/all-slab-fabbers-4/
LOCATION:The Countertop Factory\, 5970 S Palo Verde Rd\, Tucson\, AZ\, 85706\, United States
END:VEVENT
BEGIN:VEVENT
DTSTART;VALUE=DATE:20251104
DTEND;VALUE=DATE:20251107
DTSTAMP:20260425T091335
CREATED:20250302T000234Z
LAST-MODIFIED:20250302T000234Z
UID:10873-1762214400-1762473599@stoneupdate.com
SUMMARY:2025 ISFA Annual Conference
DESCRIPTION:
URL:https://stoneupdate.com/event/2025-isfa-annual-conference/
LOCATION:Kimpton Hotel Palomar Phoenix\, 2 East Jefferson Street\, Phoenix\, AZ\, 85004\, United States
CATEGORIES:Trade Show
ATTACH;FMTTYPE=image/jpeg:https://stoneupdate.com/wp-content/uploads/2024/05/ISFA.jpg
END:VEVENT
BEGIN:VEVENT
DTSTART;VALUE=DATE:20251009
DTEND;VALUE=DATE:20251010
DTSTAMP:20260425T091335
CREATED:20250202T234614Z
LAST-MODIFIED:20250202T234614Z
UID:10755-1759968000-1760054399@stoneupdate.com
SUMMARY:California Stone Summit
DESCRIPTION:Stone Industry Safety Town Hall – Mark Meriaux\, Natural Stone Institute
URL:https://stoneupdate.com/event/california-stone-summit/
LOCATION:MSI San Diego\, 7130 Miramar Road Ste 200\, San Diego\, CA\, 92121\, United States
CATEGORIES:Workshop
END:VEVENT
BEGIN:VEVENT
DTSTART;VALUE=DATE:20250911
DTEND;VALUE=DATE:20250912
DTSTAMP:20260425T091335
CREATED:20250202T234308Z
LAST-MODIFIED:20250202T234308Z
UID:10750-1757548800-1757635199@stoneupdate.com
SUMMARY:Tennessee Stone Summit
DESCRIPTION:Analyzing Shop Performance – Eric Tryon\, Premier Surfaces
URL:https://stoneupdate.com/event/tennessee-stone-summit/
LOCATION:OHM – Tennessee\, 501 Bakertown Road\, Antioch\, TN\, 37013\, United States
END:VEVENT
BEGIN:VEVENT
DTSTART;VALUE=DATE:20250821
DTEND;VALUE=DATE:20250822
DTSTAMP:20260425T091335
CREATED:20250201T235422Z
LAST-MODIFIED:20250201T235654Z
UID:10703-1755734400-1755820799@stoneupdate.com
SUMMARY:Stone Fabricators Alliance
DESCRIPTION:
URL:https://stoneupdate.com/event/stone-fabricators-alliance-3/
LOCATION:AM3 Stone\, 301 21st St N\, Bessemer\, AL\, 35020\, United States
CATEGORIES:Workshop
END:VEVENT
BEGIN:VEVENT
DTSTART;TZID=America/Los_Angeles:20250724T080000
DTEND;TZID=America/Los_Angeles:20250725T170000
DTSTAMP:20260425T091335
CREATED:20250201T233814Z
LAST-MODIFIED:20250201T233814Z
UID:10687-1753344000-1753462800@stoneupdate.com
SUMMARY:All Slab Fabbers
DESCRIPTION:Hosted by ASF Partner Narelle Hooker
URL:https://stoneupdate.com/event/all-slab-fabbers-3/
LOCATION:McKenzie Stone & Tile\, 4085 W 11th Ave STE 3\, Eugene\, OR\, 97402\, United States
END:VEVENT
BEGIN:VEVENT
DTSTART;VALUE=DATE:20250717
DTEND;VALUE=DATE:20250718
DTSTAMP:20260425T091335
CREATED:20250202T233921Z
LAST-MODIFIED:20250202T233921Z
UID:10748-1752710400-1752796799@stoneupdate.com
SUMMARY:Michigan Stone Summit
DESCRIPTION:Driving Profitability for Your Business – Ed Young\, Fabricator Coach
URL:https://stoneupdate.com/event/michigan-stone-summit/
LOCATION:UGM Surfaces\, 5060 Delemere Ave\, Royal Oak\, MI\, 48073\, United States
CATEGORIES:Workshop
END:VEVENT
BEGIN:VEVENT
DTSTART;VALUE=DATE:20250618
DTEND;VALUE=DATE:20250620
DTSTAMP:20260425T091335
CREATED:20250509T183153Z
LAST-MODIFIED:20250509T183220Z
UID:11159-1750204800-1750377599@stoneupdate.com
SUMMARY:Park Industries® FabX - Salt Lake City
DESCRIPTION:
URL:https://stoneupdate.com/event/park-industries-fabx/
LOCATION:Hilton Salt Lake City Center\, 255 South West Temple\, Sakt Lake City\, UT\, 84101\, United States
END:VEVENT
BEGIN:VEVENT
DTSTART;VALUE=DATE:20250612
DTEND;VALUE=DATE:20250613
DTSTAMP:20260425T091335
CREATED:20250201T235032Z
LAST-MODIFIED:20250201T235032Z
UID:10698-1749686400-1749772799@stoneupdate.com
SUMMARY:Stone Fabricators Alliance
DESCRIPTION:
URL:https://stoneupdate.com/event/stone-fabricators-alliance-2/
LOCATION:Central Services\, 3199 Mercier St\, Kansas City\, MO\, 64111\, United States
CATEGORIES:Workshop
END:VEVENT
BEGIN:VEVENT
DTSTART;VALUE=DATE:20250611
DTEND;VALUE=DATE:20250613
DTSTAMP:20260425T091335
CREATED:20250510T001910Z
LAST-MODIFIED:20250510T001910Z
UID:11171-1749600000-1749772799@stoneupdate.com
SUMMARY:Porcelain Fabrication Training
DESCRIPTION:
URL:https://stoneupdate.com/event/porcelain-fabrication-training/
LOCATION:Pompano Beach\, Pompano Beach\, FL\, United States
END:VEVENT
BEGIN:VEVENT
DTSTART;VALUE=DATE:20250605
DTEND;VALUE=DATE:20250606
DTSTAMP:20260425T091335
CREATED:20250202T233611Z
LAST-MODIFIED:20250202T233611Z
UID:10743-1749081600-1749167999@stoneupdate.com
SUMMARY:Massachusetts Stone Summit
DESCRIPTION:Fabricator Town Hall – Buddy Ontra\, Ontra Stone Concepts
URL:https://stoneupdate.com/event/massachusetts-stone-summit/
LOCATION:OHM\, 129 York Ave\, Randolph\, MA\, 02368\, United States
END:VEVENT
BEGIN:VEVENT
DTSTART;VALUE=DATE:20250508
DTEND;VALUE=DATE:20250509
DTSTAMP:20260425T091335
CREATED:20250202T233308Z
LAST-MODIFIED:20250202T233308Z
UID:10740-1746662400-1746748799@stoneupdate.com
SUMMARY:Utah Stone Summit
DESCRIPTION:Knowing Your Stone Fabrication Business – GK Naquin\, Stone Interiors
URL:https://stoneupdate.com/event/utah-stone-summit/
LOCATION:Arizona Tile – Utah\, 2300 S 4000 W\, West Valley City\, UT\, 84120\, United States
CATEGORIES:Workshop
END:VEVENT
BEGIN:VEVENT
DTSTART;VALUE=DATE:20250507
DTEND;VALUE=DATE:20250510
DTSTAMP:20260425T091335
CREATED:20250301T235630Z
LAST-MODIFIED:20250301T235630Z
UID:10867-1746576000-1746835199@stoneupdate.com
SUMMARY:Stone Show and Hard Surfaces
DESCRIPTION:See the extraordinarily varied palette offered by stone from around the world and the best of British.
URL:https://stoneupdate.com/event/stone-show-and-hard-surfaces/
LOCATION:ExCel London\, Royal Victoria Dock\, 1 Western Gateway\,\, London\, E16 1XL\, United Kingdom
CATEGORIES:Trade Show
ATTACH;FMTTYPE=image/jpeg:https://stoneupdate.com/wp-content/uploads/2025/03/451661609_798978459089567_4232825623453284043_n.jpg
END:VEVENT
BEGIN:VEVENT
DTSTART;TZID=America/Los_Angeles:20250429T080000
DTEND;TZID=America/Los_Angeles:20250502T170000
DTSTAMP:20260425T091335
CREATED:20250202T001039Z
LAST-MODIFIED:20250202T001039Z
UID:10715-1745913600-1746205200@stoneupdate.com
SUMMARY:Coverings 2025
DESCRIPTION:
URL:https://stoneupdate.com/event/coverings-2025/
LOCATION:Orange County Convention Center\, 9800 International Dr\, Orlando\, FL\, 32819\, United States
CATEGORIES:Trade Show
END:VEVENT
BEGIN:VEVENT
DTSTART;VALUE=DATE:20250416
DTEND;VALUE=DATE:20250418
DTSTAMP:20260425T091335
CREATED:20250301T234759Z
LAST-MODIFIED:20250301T234833Z
UID:10860-1744761600-1744934399@stoneupdate.com
SUMMARY:Fabricator Forum
DESCRIPTION:\,\,\,
URL:https://stoneupdate.com/event/fabricator-forum/
LOCATION:Hotel Place d’Armes\, 55 rue Saint Jacques\, Montreal\, QC
ATTACH;FMTTYPE=image/jpeg:https://stoneupdate.com/wp-content/uploads/2024/05/ISFA.jpg
END:VEVENT
BEGIN:VEVENT
DTSTART;VALUE=DATE:20250403
DTEND;VALUE=DATE:20250404
DTSTAMP:20260425T091335
CREATED:20250202T232958Z
LAST-MODIFIED:20250202T232958Z
UID:10736-1743638400-1743724799@stoneupdate.com
SUMMARY:Texas Stone Summit
DESCRIPTION:Fabricator Town Hall – Buddy Ontra\, Ontra Stone Concepts
URL:https://stoneupdate.com/event/texas-stone-summit-2/
LOCATION:Cosentino Housto\, 1315 W Sam Houston Pkwy N Ste 150\, Houston\, TX\, 77043\, United States
CATEGORIES:Workshop
END:VEVENT
BEGIN:VEVENT
DTSTART;VALUE=DATE:20250327
DTEND;VALUE=DATE:20250328
DTSTAMP:20260425T091335
CREATED:20250201T234731Z
LAST-MODIFIED:20250201T234731Z
UID:10695-1743033600-1743119999@stoneupdate.com
SUMMARY:Stone Fabricators Alliance
DESCRIPTION:
URL:https://stoneupdate.com/event/stone-fabricators-alliance/
LOCATION:One Stone\, 3001 SW 10th St Suite 144\, Pompano Beach\, FL\, 33069\, United States
CATEGORIES:Workshop
END:VEVENT
BEGIN:VEVENT
DTSTART;TZID=America/Los_Angeles:20250320T080000
DTEND;TZID=America/Los_Angeles:20250321T170000
DTSTAMP:20260425T091335
CREATED:20250201T233324Z
LAST-MODIFIED:20250301T235017Z
UID:10682-1742457600-1742576400@stoneupdate.com
SUMMARY:All Slab Fabbers
DESCRIPTION:Hosted by ASF Partner Chris Hildebrand
URL:https://stoneupdate.com/event/all-slab-fabbers-2/
LOCATION:Affordable Quality Marble and Granite\, 1272 Powderhouse Rd SE\, Aiken\, SC\, 29803\, United States
CATEGORIES:Workshop
ATTACH;FMTTYPE=image/jpeg:https://stoneupdate.com/wp-content/uploads/2025/02/ASF-Slab-Fabbers.jpg
END:VEVENT
BEGIN:VEVENT
DTSTART;VALUE=DATE:20250309
DTEND;VALUE=DATE:20250313
DTSTAMP:20260425T091335
CREATED:20250301T234256Z
LAST-MODIFIED:20250301T235053Z
UID:10850-1741478400-1741823999@stoneupdate.com
SUMMARY:Marble Izmir Fair
DESCRIPTION:
URL:https://stoneupdate.com/event/marble-izmir-fair/
LOCATION:Fuar Izmir\, Zafer Mah. 840 Sk. Fuar Alanı No:2\, Izmir\, Turkey
CATEGORIES:Trade Show
ATTACH;FMTTYPE=image/png:https://stoneupdate.com/wp-content/uploads/2025/03/Izmir-fair.png
END:VEVENT
BEGIN:VEVENT
DTSTART;VALUE=DATE:20250306
DTEND;VALUE=DATE:20250307
DTSTAMP:20260425T091335
CREATED:20250202T232529Z
LAST-MODIFIED:20250202T232529Z
UID:10732-1741219200-1741305599@stoneupdate.com
SUMMARY:Georgia Stone Summit
DESCRIPTION:Knowing Your Stone Fabrication Business – Duane Naquin\, Stone Interiors
URL:https://stoneupdate.com/event/georgia-stone-summit/
LOCATION:MSI Atlanta\, 1501 Pine Barren Road\, Pooler\, GA\, 31322\, United States
CATEGORIES:Workshop
END:VEVENT
BEGIN:VEVENT
DTSTART;VALUE=DATE:20250213
DTEND;VALUE=DATE:20250214
DTSTAMP:20260425T091335
CREATED:20250202T232233Z
LAST-MODIFIED:20250202T232233Z
UID:10726-1739404800-1739491199@stoneupdate.com
SUMMARY:Louisiana Stone Summit
DESCRIPTION:Silica and Slab LIVE Safety Certificate – Mark Meriaux\, Natural Stone Institute
URL:https://stoneupdate.com/event/louisiana-stone-summit/
LOCATION:Triton Stone Group\, 6131 River Road\, Harahan\, LA\, 70123\, United States
CATEGORIES:Workshop
END:VEVENT
BEGIN:VEVENT
DTSTART;VALUE=DATE:20250211
DTEND;VALUE=DATE:20250212
DTSTAMP:20260425T091335
CREATED:20250202T235904Z
LAST-MODIFIED:20250202T235904Z
UID:10768-1739232000-1739318399@stoneupdate.com
SUMMARY:Regional Interior Installation of GPTP/Slabs #2056
DESCRIPTION:Instructor: Robb Roderick. \nThis program is an all-day event. You must bring your own PPE (safety goggles\, knee pads\, & cut-resistant gloves).
URL:https://stoneupdate.com/event/regional-interior-installation-of-gptp-slabs-2056/
LOCATION:Floor & Decor – Houston\, 4330 Dacoma St.\, Houston\, TX\, 77092\, United States
CATEGORIES:Workshop
END:VEVENT
BEGIN:VEVENT
DTSTART;VALUE=DATE:20250206
DTEND;VALUE=DATE:20250207
DTSTAMP:20260425T091335
CREATED:20250203T000419Z
LAST-MODIFIED:20250203T000419Z
UID:10771-1738800000-1738886399@stoneupdate.com
SUMMARY:Regional Interior Installation of GPTP/Slabs #2047
DESCRIPTION:Instructor: Kate Koerber \nThis program is an all-day event. You must bring your own PPE (safety goggles\, knee pads\, & cut-resistant gloves).
URL:https://stoneupdate.com/event/regional-interior-installation-of-gptp-slabs-2047/
LOCATION:Floor & Decor – Danbury\, Conn.\, 116 Federal Road\, Danbury\, CT\, 06811\, United States
CATEGORIES:Workshop
END:VEVENT
BEGIN:VEVENT
DTSTART;VALUE=DATE:20250206
DTEND;VALUE=DATE:20250207
DTSTAMP:20260425T091335
CREATED:20250202T235603Z
LAST-MODIFIED:20250202T235603Z
UID:10763-1738800000-1738886399@stoneupdate.com
SUMMARY:Regional Interior Installation of GPTP/Slabs #2031
DESCRIPTION:Instructor: Robb Roderick. \nThis program is an all-day event. You must bring your own PPE (safety goggles\, knee pads\, & cut-resistant gloves).
URL:https://stoneupdate.com/event/regional-interior-installation-of-gptp-slabs-2031/
LOCATION:Floor & Decor – Metairie La.\, 3609 Veterans Memorial Boulevard\, Metairie\, LA\, 70002\, United States
END:VEVENT
BEGIN:VEVENT
DTSTART;TZID=America/Los_Angeles:20250202T080000
DTEND;TZID=America/Los_Angeles:20250202T170000
DTSTAMP:20260425T091335
CREATED:20250202T234839Z
LAST-MODIFIED:20250202T234839Z
UID:10758-1738483200-1738515600@stoneupdate.com
SUMMARY:Nevada Stone Summit
DESCRIPTION:Take Your Organization to the Next Level – Blake Christensen\, Valley View Granite
URL:https://stoneupdate.com/event/nevada-stone-summit/
LOCATION:Pacific Shore Stones – Reno\, 4999 Aircenter Circle\, Reno\, NV\, 89502\, United States
CATEGORIES:Workshop
END:VEVENT
BEGIN:VEVENT
DTSTART;VALUE=DATE:20250128
DTEND;VALUE=DATE:20250131
DTSTAMP:20260425T091336
CREATED:20250202T000202Z
LAST-MODIFIED:20250202T000202Z
UID:10706-1738022400-1738281599@stoneupdate.com
SUMMARY:The International Surface Event (TISE) 2025
DESCRIPTION:
URL:https://stoneupdate.com/event/the-international-surface-event-tise-2025/
LOCATION:Mandalay Bay Convention Center\, 3950 S Las Vegas Blvd\, Las Vegas\, NV\, 89119\, United States
CATEGORIES:Trade Show
END:VEVENT
BEGIN:VEVENT
DTSTART;TZID=America/Los_Angeles:20241211T080000
DTEND;TZID=America/Los_Angeles:20241213T170000
DTSTAMP:20260425T091336
CREATED:20240523T234930Z
LAST-MODIFIED:20240523T235755Z
UID:10051-1733904000-1734109200@stoneupdate.com
SUMMARY:ASEAN Stone 2024
DESCRIPTION:Stone and ceramics trade event in Ho Chi Minh City\, Vietnam. \n\
URL:https://stoneupdate.com/event/asean-stone-2024/
LOCATION:Saigon Exhibition Center\, 799 Đ. Nguyễn Văn Linh\, Tân Phú\, Quận 7\,\, Ho Chi Minh City\, Viet Nam
CATEGORIES:Trade Show
ATTACH;FMTTYPE=image/png:https://stoneupdate.com/wp-content/uploads/2024/05/AS-logo_coloured_horizontal.png
END:VEVENT
BEGIN:VEVENT
DTSTART;VALUE=DATE:20241107
DTEND;VALUE=DATE:20241108
DTSTAMP:20260425T091336
CREATED:20240510T233456Z
LAST-MODIFIED:20240510T233740Z
UID:10001-1730937600-1731023999@stoneupdate.com
SUMMARY:Texas Stone Summit
DESCRIPTION:“Know Your Business” with Duane Naquin
URL:https://stoneupdate.com/event/texas-stone-summit/
LOCATION:Arizona Tile\, 2701 Regent Blvd #100\, Dallas\, TX\, 75261\, United States
CATEGORIES:Workshop
ATTACH;FMTTYPE=image/png:https://stoneupdate.com/wp-content/uploads/2023/12/Stone-Industry-Education.png
END:VEVENT
BEGIN:VEVENT
DTSTART;VALUE=DATE:20241010
DTEND;VALUE=DATE:20241011
DTSTAMP:20260425T091336
CREATED:20240510T233236Z
LAST-MODIFIED:20240510T233236Z
UID:9998-1728518400-1728604799@stoneupdate.com
SUMMARY:Washington Stone Summit
DESCRIPTION:Fabricator Town Hall at MSI in Kent\, Wash.
URL:https://stoneupdate.com/event/washington-stone-summit/
LOCATION:MSI Seattle\, 19624 62nd Ave S\, Kent\, WA\, 98032\, United States
CATEGORIES:Workshop
ATTACH;FMTTYPE=image/png:https://stoneupdate.com/wp-content/uploads/2023/12/Stone-Industry-Education.png
END:VEVENT
END:VCALENDAR